BEGIN:VCALENDAR
VERSION:2.0
PRODID:-//ChamberMaster//Event Calendar 2.0//EN
METHOD:PUBLISH
X-PUBLISHED-TTL:P3D
REFRESH-INTERVAL:P3D
CALSCALE:GREGORIAN
BEGIN:VEVENT
DTSTART:20151014T203000Z
DTEND:20151014T223000Z
X-MICROSOFT-CDO-ALLDAYEVENT:FALSE
SUMMARY:CenturyLink Chamber After Hours
DESCRIPTION:Join CenturyLink at the Hanover Chamber of Commerce for an After Hours event!
X-ALT-DESC;FMTTYPE=text/html:Join CenturyLink at the Hanover Chamber of Commerce for an After Hours event!
LOCATION:Hanover Chamber of Commerce 146 Carlisle Street Hanover\, PA 17331
UID:e.1500.959
SEQUENCE:3
DTSTAMP:20260422T214752Z
URL:https://business.mainstreethanover.org/events/details/centurylink-chamber-after-hours-10-14-2015-959
END:VEVENT

END:VCALENDAR
