BEGIN:VCALENDAR
VERSION:2.0
PRODID:-//ChamberMaster//Event Calendar 2.0//EN
METHOD:PUBLISH
X-PUBLISHED-TTL:P3D
REFRESH-INTERVAL:P3D
CALSCALE:GREGORIAN
BEGIN:VEVENT
DTSTART:20160611T130000Z
DTEND:20160611T180000Z
X-MICROSOFT-CDO-ALLDAYEVENT:FALSE
SUMMARY:Chalk it Up
DESCRIPTION:Artists of all ages come to Downtown Hanover to participate in an event that celebrates the local artists! Participants will create their own works of art on sidewalk slabs for all to see. Judges will choose a favorite and cash prizes will be awarded to the winner! New this year\, we will also have a people's choice winner that will also be a winner of cash prizes!\n\nFor tickets please visit this link http://www.eventbrite.com/e/chalk-it-up-2016-tickets-22069236681
X-ALT-DESC;FMTTYPE=text/html:Artists of all ages come to Downtown Hanover to participate in an event that celebrates the local artists! Participants will create their own works of art on sidewalk slabs for all to see. Judges will choose a favorite and cash prizes will be awarded to the winner! New this year\, we will also have a people&rsquo\;s choice winner that will also be a winner of cash prizes!<br />\nFor tickets please visit this link&nbsp\;http://www.eventbrite.com/e/chalk-it-up-2016-tickets-22069236681
LOCATION:Downtown Hanover Hanover\, PA
UID:e.1500.1123
SEQUENCE:3
DTSTAMP:20260422T113128Z
URL:https://business.mainstreethanover.org/events/details/chalk-it-up-06-11-2016-1123
END:VEVENT

END:VCALENDAR
