BEGIN:VCALENDAR
VERSION:2.0
PRODID:-//ChamberMaster//Event Calendar 2.0//EN
METHOD:PUBLISH
X-PUBLISHED-TTL:P3D
REFRESH-INTERVAL:P3D
CALSCALE:GREGORIAN
BEGIN:VEVENT
DTSTART:20150729T203000Z
DTEND:20150729T223000Z
X-MICROSOFT-CDO-ALLDAYEVENT:FALSE
SUMMARY:Chamber After Hours
DESCRIPTION:Join us for our very first Chamber After Hours event!  \n\n\n\nThis NEW event will offer Chamber members the opportunity to host an After Hours event with little planning on your part.  Promote your business by sponsoring the event at the Chamber Office\; Chamber staff will do all of the preparation\, planning and promotion.  \n\n\n\nThis first After Hours will offer a preview of what you can expect when you choose to host the event.  Registration is complimentary. \n\n\n\nTo schedule a Mixer or Chamber After Hours event\, call the Chamber office at  637-6130 ext. 104 or email Erinn Bell at ebell@hanoverchamber.com
X-ALT-DESC;FMTTYPE=text/html:Join us for our very first Chamber After Hours event! &nbsp\;<br />\n<br />\nThis NEW event will offer Chamber members the opportunity to host an After Hours event with little planning on your part. &nbsp\;Promote your business by sponsoring the event at the Chamber Office\; Chamber staff will do all of the preparation\, planning and promotion. &nbsp\;<br />\n<br />\nThis first After Hours will offer a preview of what you can expect when you choose to host the event. &nbsp\;Registration is complimentary.&nbsp\;<br />\n<br />\n<span style="font-size:12px\;"><span style="font-family:verdana\;">To schedule a Mixer or Chamber After Hours event\, call the Chamber office at&nbsp\; 637-6130 ext. 104 or email Erinn Bell at ebell@hanoverchamber.com</span></span><br />\n&nbsp\;
LOCATION:Hanover Chamber of Commerce 146 Carlisle Street Hanover\, PA 17331
UID:e.1500.933
SEQUENCE:3
DTSTAMP:20260423T021826Z
URL:https://business.mainstreethanover.org/events/details/chamber-after-hours-07-29-2015-933
END:VEVENT

END:VCALENDAR
