BEGIN:VCALENDAR
VERSION:2.0
PRODID:-//ChamberMaster//Event Calendar 2.0//EN
METHOD:PUBLISH
X-PUBLISHED-TTL:P3D
REFRESH-INTERVAL:P3D
CALSCALE:GREGORIAN
BEGIN:VEVENT
DTSTART:20181116T133000Z
DTEND:20181116T150000Z
X-MICROSOFT-CDO-ALLDAYEVENT:FALSE
SUMMARY:Chamber Strategic Planning Focus Group #3
DESCRIPTION:As part of the chamber's new strategic plan\, we are asking our members to join us for focus group sessions. These sessions will help us better understand our members\, what they expect of us\, and how we can improve. Your input is important to the success of the chamber's future!
X-ALT-DESC;FMTTYPE=text/html:<span style="font-family:arial\;"><span style="font-size:14px\;"><span style="color:#333333\;">As part of the chamber&#39\;s new strategic plan\, we are asking our members to join us for focus group sessions. These sessions will help us better understand our members\, what they expect of us\, and how we can improve. </span><strong><span style="color:#444444\;">Your input is important to the success of the chamber&#39\;s future!</span></strong></span></span>
LOCATION:Guthrie Memorial Library Bare Center- Basement 2 Library Pl\, Hanover\, PA 17331
UID:e.1500.4326
SEQUENCE:3
DTSTAMP:20260420T115014Z
URL:https://business.mainstreethanover.org/events/details/chamber-strategic-planning-focus-group-3-4326
END:VEVENT

END:VCALENDAR
