BEGIN:VCALENDAR
VERSION:2.0
PRODID:-//ChamberMaster//Event Calendar 2.0//EN
METHOD:PUBLISH
X-PUBLISHED-TTL:P3D
REFRESH-INTERVAL:P3D
CALSCALE:GREGORIAN
BEGIN:VEVENT
DTSTART:20151218T163000Z
DTEND:20151218T183000Z
X-MICROSOFT-CDO-ALLDAYEVENT:FALSE
SUMMARY:Christmas Luncheon 2015
DESCRIPTION:Hanover Chamber's Annual Christmas Luncheon
X-ALT-DESC;FMTTYPE=text/html:<strong style="line-height: 18.9091px\;"><span style="font-size: 22px\;">Hanover Chamber&#39\;s Annual Christmas Luncheon</span></strong>
LOCATION:Hanover Country Club 200 E. Water St. Abbottstown\, PA
UID:e.1500.975
SEQUENCE:3
DTSTAMP:20260422T184857Z
URL:https://business.mainstreethanover.org/events/details/christmas-luncheon-2015-12-18-2015-975
END:VEVENT

END:VCALENDAR
