BEGIN:VCALENDAR
VERSION:2.0
PRODID:-//ChamberMaster//Event Calendar 2.0//EN
METHOD:PUBLISH
X-PUBLISHED-TTL:P3D
REFRESH-INTERVAL:P3D
CALSCALE:GREGORIAN
BEGIN:VEVENT
DTSTART:20181214T163000Z
DTEND:20181214T183000Z
X-MICROSOFT-CDO-ALLDAYEVENT:FALSE
SUMMARY:Christmas Luncheon 2018
DESCRIPTION:Join us for the Hanover Chamber's Annual Christmas Luncheon\, presented by WellSpan Occupational Health. Guest Speaker: TBD\n\n\n\nSeating is limited. Please register in advance to reserve your seat!\n\n\n\nLocation:\n\nHanover Country Club\n\n200 E. Water St.\n\nAbbottstown\, PA\n\nDate/Time:\n\nFriday\, December 14th  \n\n11:30 a.m. Eggnog Social \n\n12:15 p.m. Lunch & Program\n\n\n\nCost:\n\n$40/member\n\n$50/non-member\n\n\n\nLegislative Sponsor: \n\nWellSpan Occupational Health\n\n\n\nEggnog Sponsor: \n\nAPPI Energy
X-ALT-DESC;FMTTYPE=text/html:<p>Join us for the Hanover Chamber&#39\;s Annual Christmas Luncheon\, presented by WellSpan Occupational Health. Guest Speaker: TBD<br />\n<br />\nSeating is limited. Please register in advance to reserve your seat!</p>\n\n<p><br />\n<strong>Location:</strong><br />\n<em><span style="color: rgb(51\, 51\, 51)\; font-family: sans-serif\, Arial\, Verdana\, &quot\;Trebuchet MS&quot\;\; font-size: 13px\; line-height: 18.9091px\;">Hanover Country Club</span></em><br style="color: rgb(51\, 51\, 51)\; font-family: sans-serif\, Arial\, Verdana\, &quot\;Trebuchet MS&quot\;\; font-size: 13px\; line-height: 18.9091px\;" />\n<span style="color: rgb(51\, 51\, 51)\; font-family: sans-serif\, Arial\, Verdana\, &quot\;Trebuchet MS&quot\;\; font-size: 13px\; line-height: 18.9091px\;">200 E. Water St.</span><br style="color: rgb(51\, 51\, 51)\; font-family: sans-serif\, Arial\, Verdana\, &quot\;Trebuchet MS&quot\;\; font-size: 13px\; line-height: 18.9091px\;" />\nAbbottstown<span style="color: rgb(51\, 51\, 51)\; font-family: sans-serif\, Arial\, Verdana\, &quot\;Trebuchet MS&quot\;\; font-size: 13px\; line-height: 18.9091px\;">\, PA</span></p>\n\n<p><span style="color: rgb(51\, 51\, 51)\; font-family: sans-serif\, Arial\, Verdana\, &quot\;Trebuchet MS&quot\;\; font-size: 13px\; line-height: 18.9091px\;"><strong>Date/Time:</strong><br />\n<em>Friday\, December 14th&nbsp\;&nbsp\;</em><br />\n11:30 a.m. Eggnog Social&nbsp\;<br />\n12:15 p.m. Lunch &amp\; Program</span><br />\n<br />\n<strong>Cost:</strong><br />\n<span style="line-height: 18.9091px\;">$40/member</span><br style="line-height: 18.9091px\;" />\n<span style="line-height: 18.9091px\;">$50/non-member</span><br />\n<br />\n<em>Legislative Sponsor:&nbsp\;</em><br />\n<strong>WellSpan Occupational Health</strong><br />\n<br />\n<em>Eggnog Sponsor:&nbsp\;</em><br />\n<strong>APPI Energy&nbsp\;</strong></p>\n
LOCATION:
UID:e.1500.3126
SEQUENCE:3
DTSTAMP:20260420T114931Z
URL:https://business.mainstreethanover.org/events/details/christmas-luncheon-2018-3126
END:VEVENT

END:VCALENDAR
