BEGIN:VCALENDAR
VERSION:2.0
PRODID:-//ChamberMaster//Event Calendar 2.0//EN
METHOD:PUBLISH
X-PUBLISHED-TTL:P3D
REFRESH-INTERVAL:P3D
CALSCALE:GREGORIAN
BEGIN:VEVENT
DTSTART;VALUE=DATE:20170325
DTEND;VALUE=DATE:20170326
TRANSP:TRANSPARENT
X-MICROSOFT-CDO-ALLDAYEVENT:TRUE
SUMMARY:Citizenship Ready El Civics Course
DESCRIPTION:Lessons will include American Government\, American History\, and Citizenship\n\nTest preparation and English language lessons for the reading and writing\,\n\nconsultation on the Naturalization and application processes.
X-ALT-DESC;FMTTYPE=text/html:Lessons will include American Government\, American History\, and Citizenship<br />\nTest preparation and English language lessons for the reading and writing\,<br />\nconsultation on the Naturalization and application processes.
LOCATION:York County Literacy Council\, 800 E. King St\, York\, PA
UID:e.1500.2482
SEQUENCE:3
DTSTAMP:20260421T195611Z
URL:https://business.mainstreethanover.org/events/details/citizenship-ready-el-civics-course-2482
END:VEVENT

END:VCALENDAR
