BEGIN:VCALENDAR
VERSION:2.0
PRODID:-//ChamberMaster//Event Calendar 2.0//EN
METHOD:PUBLISH
X-PUBLISHED-TTL:P3D
REFRESH-INTERVAL:P3D
CALSCALE:GREGORIAN
BEGIN:VEVENT
DTSTART:20151017T123000Z
DTEND:20151017T160000Z
X-MICROSOFT-CDO-ALLDAYEVENT:FALSE
SUMMARY:Codorus 5K For a Cause- Biathlon Built for 2
DESCRIPTION:The biathlon will tak place Saturday\, October 17th\, 2015 at 8:30AM at Codorus State Park. The course is a 2 mile (mostly flat)\, 12 mile bike ride around Lake Marburg\, and 2 mile trail run. The Price is $54 per participant.
X-ALT-DESC;FMTTYPE=text/html:The biathlon will tak place Saturday\, October 17th\, 2015 at 8:30AM at Codorus State Park. The course is a 2 mile (mostly flat)\, 12 mile bike ride around Lake Marburg\, and 2 mile trail run. The Price is $54 per participant.
LOCATION:Codorus State Park
UID:e.1500.956
SEQUENCE:3
DTSTAMP:20260422T214810Z
URL:https://business.mainstreethanover.org/events/details/codorus-5k-for-a-cause-biathlon-built-for-2-10-17-2015-956
END:VEVENT

END:VCALENDAR
