BEGIN:VCALENDAR
VERSION:2.0
PRODID:-//ChamberMaster//Event Calendar 2.0//EN
METHOD:PUBLISH
X-PUBLISHED-TTL:P3D
REFRESH-INTERVAL:P3D
CALSCALE:GREGORIAN
BEGIN:VEVENT
DTSTART:20160617T200000Z
DTEND:20160619T210000Z
X-MICROSOFT-CDO-ALLDAYEVENT:FALSE
SUMMARY:Codorus Blast Festival In The Park
DESCRIPTION:Codorus Blast Festival In The Park is a fun family festival. Visit www.CodorusBlast.org and find us on facebook https://www.facebook.com/The-Codorus-Blast-Festival-in-the-Park-552415884843848/ For all of the information. Fireworks are Saturday June 18 at dusk. Please park at the Blast event. See you at the BLAST!
X-ALT-DESC;FMTTYPE=text/html:Codorus Blast Festival In The Park is a fun family festival. Visit www.CodorusBlast.org and find us on facebook https://www.facebook.com/The-Codorus-Blast-Festival-in-the-Park-552415884843848/ For all of the information. Fireworks are Saturday June 18 at dusk. Please park at the Blast event. See you at the BLAST!
LOCATION:Codorus State Park
UID:e.1500.1131
SEQUENCE:3
DTSTAMP:20260422T102152Z
URL:https://business.mainstreethanover.org/events/details/codorus-blast-festival-in-the-park-06-17-2016-1131
END:VEVENT

END:VCALENDAR
