BEGIN:VCALENDAR
VERSION:2.0
PRODID:-//ChamberMaster//Event Calendar 2.0//EN
METHOD:PUBLISH
X-PUBLISHED-TTL:P3D
REFRESH-INTERVAL:P3D
CALSCALE:GREGORIAN
BEGIN:VEVENT
DTSTART:20180412T211500Z
DTEND:20180413T000000Z
X-MICROSOFT-CDO-ALLDAYEVENT:FALSE
SUMMARY:Color Mixer Paint Night
DESCRIPTION:Join us for another fun Color Mixer Paint Night at the Warehime-Myers Mansion on April 12th!\n\nYour instructor-led painting will honor Hanoverian John Luther Long\, the author of Madame Butterfly\, which later became a famous play and opera.
X-ALT-DESC;FMTTYPE=text/html:Join us for another fun Color Mixer Paint Night at the Warehime-Myers Mansion on April 12th!<br />\nYour instructor-led painting will honor Hanoverian John Luther Long\, the author of Madame Butterfly\, which later became a famous play and opera.
LOCATION:Warehime-Myers Mansion
UID:e.1500.4215
SEQUENCE:3
DTSTAMP:20260420T233728Z
URL:https://business.mainstreethanover.org/events/details/color-mixer-paint-night-4215
END:VEVENT

END:VCALENDAR
