BEGIN:VCALENDAR
VERSION:2.0
PRODID:-//ChamberMaster//Event Calendar 2.0//EN
METHOD:PUBLISH
X-PUBLISHED-TTL:P3D
REFRESH-INTERVAL:P3D
CALSCALE:GREGORIAN
BEGIN:VEVENT
DTSTART:20150613T140000Z
DTEND:20150613T190000Z
X-MICROSOFT-CDO-ALLDAYEVENT:FALSE
SUMMARY:Concorso Bizarro
DESCRIPTION:Dubbed\, "Concorso Bizarro"\, the tongue-in-cheek car show brings together those mechanical misfits\, those automotive abhorrence's\, and the just plain tacky. Enjoy this out of the ordinary show during The Elegance at Hershey on June 13 from 10 AM to 3 PM. Experience some interesting cars\, celebrity judging\, and a 2:30 awards ceremony with Dash Plaques for the first 100 cars. The new event takes place in the parking field adjacent to Route 39 and Boathouse Road in Hershey. It adds another layer of automotive experiences to The Elegance at Hershey\, including the Grand Ascent vintage hill climb races\, the Challenge 5K foot race\, and of course the feature of the weekend\, Sunday's The Elegance at the Hotel Hershey.
X-ALT-DESC;FMTTYPE=text/html:<p class="MsoNormal"><span style="color: rgb(16\, 10\, 0)\; line-height: 107%\; font-family: Arial\, sans-serif\; font-size: 11.5pt\;">Dubbed\, &ldquo\;Concorso Bizarro&rdquo\;\, the tongue-in-cheek car show brings together those mechanical misfits\, those automotive abhorrence&rsquo\;s\, and the just plain tacky. Enjoy this out of the ordinary show during The Elegance at Hershey on June 13 from 10 AM to 3 PM. Experience some interesting cars\, celebrity judging\, and a 2:30 awards ceremony with Dash Plaques for the first 100 cars. The new event takes place in the parking field adjacent to Route 39 and Boathouse Road in Hershey. It adds another layer of automotive experiences to The Elegance at Hershey\, including the Grand Ascent vintage hill climb races\, the Challenge 5K foot race\, and of course the feature of the weekend\, Sunday&rsquo\;s The Elegance at the Hotel Hershey.<o:p></o:p></span></p>\n
LOCATION:The Hotel Hershey 100 Hotel Road Hershey\, PA 17033
UID:e.1500.870
SEQUENCE:3
DTSTAMP:20260423T040226Z
URL:https://business.mainstreethanover.org/events/details/concorso-bizarro-06-13-2015-870
END:VEVENT

END:VCALENDAR
