BEGIN:VCALENDAR
VERSION:2.0
PRODID:-//ChamberMaster//Event Calendar 2.0//EN
METHOD:PUBLISH
X-PUBLISHED-TTL:P3D
REFRESH-INTERVAL:P3D
CALSCALE:GREGORIAN
BEGIN:VEVENT
DTSTART:20171209T180000Z
DTEND:20171209T220000Z
X-MICROSOFT-CDO-ALLDAYEVENT:FALSE
SUMMARY:Cookie Stroll
DESCRIPTION:2nd Saturday- Experience Downtown Hanover!\n\nCookie Stroll\n\nCalling local bakers! Join us for a downtown Cookie Stroll to Celebrate the holidays. \n\nTo participate please e-mail Mainstreethanover@gmail.com
X-ALT-DESC;FMTTYPE=text/html:2nd Saturday- Experience Downtown Hanover!<br />\nCookie Stroll<br />\nCalling local bakers! Join us for a downtown Cookie Stroll to Celebrate the holidays.&nbsp\;<br />\nTo participate please e-mail Mainstreethanover@gmail.com<br />\n&nbsp\;
LOCATION:Downtown Hanover\, PA
UID:e.1500.3090
SEQUENCE:3
DTSTAMP:20260421T055843Z
URL:https://business.mainstreethanover.org/events/details/cookie-stroll-3090
END:VEVENT

END:VCALENDAR
