BEGIN:VCALENDAR
VERSION:2.0
PRODID:-//ChamberMaster//Event Calendar 2.0//EN
METHOD:PUBLISH
X-PUBLISHED-TTL:P3D
REFRESH-INTERVAL:P3D
CALSCALE:GREGORIAN
BEGIN:VEVENT
DTSTART;VALUE=DATE:20160916
DTEND;VALUE=DATE:20160917
TRANSP:TRANSPARENT
X-MICROSOFT-CDO-ALLDAYEVENT:TRUE
SUMMARY:Corporate Challenge
DESCRIPTION:The Corporate Challenge is comprised of a full day of fun\, team-building activities and friendly competition including an obstacle course\, tug-of-war and dodge ball. The event will be held at Adams-York Sports Performance in McSherrystown. Lunch and light refreshments are provided with the cost of registration.\n\n\n\nProceeds from the Corporate Challenge benefit the Chamber's workforce development programs. The 2015 event raised approximately $4\,000 towards this cause.\n\n\n\nhttp://hanoverchamber.com/corporate-challenge/
X-ALT-DESC;FMTTYPE=text/html:<span style="line-height: 20.8px\;">The Corporate Challenge is comprised of a full day of fun\, team-building activities and friendly competition including an obstacle course\, tug-of-war and dodge ball. The event will be&nbsp\;held&nbsp\;at Adams-York Sports Performance in McSherrystown</span><span style="line-height: 20.8px\;">.&nbsp\;Lunch and light refreshments are provided with the cost of registration.</span><br style="line-height: 20.8px\;" />\n<br style="line-height: 20.8px\;" />\n<span style="line-height: 20.8px\;">Proceeds from the Corporate Challenge benefit the Chamber&rsquo\;s workforce development programs. The 2015 event raised approximately $4\,000 towards this cause.</span><br style="line-height: 20.8px\;" />\n<br />\n<a href="http://hanoverchamber.com/corporate-challenge/" style="line-height: 20.8px\;">http</a><a href="http://hanoverchamber.com/corporate-challenge/" style="line-height: 20.8px\;">://hanoverchamber.com/corporate-challenge/</a>
LOCATION:Register today! Checks should be made payable to the Hanover Area Chamber of Commerce. http://hanoverchamber.com/corporate-challenge/ Event will be held at Adams-York Sports Performance at 200 S. 4th Street\, McSherrystown
UID:e.1500.1113
SEQUENCE:3
DTSTAMP:20260422T053100Z
URL:https://business.mainstreethanover.org/events/details/corporate-challenge-09-16-2016-1113
END:VEVENT

END:VCALENDAR
