BEGIN:VCALENDAR
VERSION:2.0
PRODID:-//ChamberMaster//Event Calendar 2.0//EN
METHOD:PUBLISH
X-PUBLISHED-TTL:P3D
REFRESH-INTERVAL:P3D
CALSCALE:GREGORIAN
BEGIN:VEVENT
DTSTART:20150918T120000Z
DTEND:20150918T200000Z
X-MICROSOFT-CDO-ALLDAYEVENT:FALSE
SUMMARY:Corporate Challenge
DESCRIPTION:The Corporate Challenge is comprised of a full day of fun\, team-building activities and friendly competition including an obstacle course\, laser tag\, tug-of-war and dodge ball. The event is held at the Hanover YMCA and Hickory Falls Family Entertainment Center. Lunch and light refreshments are provided with the cost of registration.\n\n\n\nProceeds from the Corporate Challenge benefit the Chamber's workforce development programs. The 2014 event raised approximately $2\,000 towards this cause.\n\n\n\nClick Here for printable Registration Form!\n\nClick Here if you would like to Sponsor the Event!
X-ALT-DESC;FMTTYPE=text/html:The Corporate Challenge is comprised of a full day of fun\, team-building activities and friendly competition including an obstacle course\, laser tag\, tug-of-war and dodge ball. The event is held at the Hanover YMCA and Hickory Falls Family Entertainment Center. Lunch and light refreshments are provided with the cost of registration.<br />\n<br />\nProceeds from the Corporate Challenge benefit the Chamber&rsquo\;s workforce development programs. The 2014 event raised approximately $2\,000 towards this cause.<br />\n<br />\n<a href="http://hanoverchamber.com/wp-content/uploads/2015/05/CorporateChallengeRegSheet.pdf"><strong>Click Here for printable Registration Form!</strong></a><br />\n<a href="http://hanoverchamber.com/wp-content/uploads/2015/05/CorporateChallengeSponsorshipForm.pdf">Click Here if you would like to Sponsor the Event! </a>
LOCATION:Register today! Checks should be made payable to the Hanover Area Chamber of Commerce. http://hanoverchamber.com/corporate-challenge/ Event will be held at the Hanover Area YMCA\, 500 N. George St.\, Hanover and Hickory Falls Family Entertainment Center\, 110 Hickory Ln.\, Hanover.
UID:e.1500.941
SEQUENCE:3
DTSTAMP:20260422T231422Z
URL:https://business.mainstreethanover.org/events/details/corporate-challenge-09-18-2015-941
END:VEVENT

END:VCALENDAR
