BEGIN:VCALENDAR
VERSION:2.0
PRODID:-//ChamberMaster//Event Calendar 2.0//EN
METHOD:PUBLISH
X-PUBLISHED-TTL:P3D
REFRESH-INTERVAL:P3D
CALSCALE:GREGORIAN
BEGIN:VEVENT
DTSTART;VALUE=DATE:20180921
DTEND;VALUE=DATE:20180922
TRANSP:TRANSPARENT
X-MICROSOFT-CDO-ALLDAYEVENT:TRUE
SUMMARY:Corporate Challenge
DESCRIPTION:The Corporate Challenge is comprised of a full day of fun\, team-building activities and friendly competition including an obstacle course\, tug-of-war and dodge ball.
X-ALT-DESC;FMTTYPE=text/html:<span style="line-height: 20.8px\;">The Corporate Challenge is comprised of a full day of fun\, team-building activities and friendly competition including an obstacle course\, tug-of-war and dodge ball.</span>
LOCATION:NEW LOCATION THIS YEAR! Event will be held at CrossFit Hanover\, 604 Frederick Street\, Hanover\, PA 17331
UID:e.1500.4140
SEQUENCE:3
DTSTAMP:20260420T150243Z
URL:https://business.mainstreethanover.org/events/details/corporate-challenge-4140
END:VEVENT

END:VCALENDAR
