BEGIN:VCALENDAR
VERSION:2.0
PRODID:-//ChamberMaster//Event Calendar 2.0//EN
METHOD:PUBLISH
X-PUBLISHED-TTL:P3D
REFRESH-INTERVAL:P3D
CALSCALE:GREGORIAN
BEGIN:VEVENT
DTSTART:20180721T170000Z
DTEND:20180721T190000Z
X-MICROSOFT-CDO-ALLDAYEVENT:FALSE
SUMMARY:Craft Class: Finger Painting
DESCRIPTION:Have fun with artist Dawn Spruill as she shows us that finger painting isn't just for kids. The class is $40 per person\, which includes all of your painting supplies (for those who don't like to get messy\, gloves will be provided). Reservations are required\, so call 717-334-4631 to reserve your spot.
X-ALT-DESC;FMTTYPE=text/html:Have fun with artist Dawn Spruill as she shows us that finger painting isn&rsquo\;t just for kids. The class is $40 per person\, which includes all of your painting supplies (for those who don&rsquo\;t like to get messy\, gloves will be provided). Reservations are required\, so call 717-334-4631 to reserve your spot.
LOCATION:Adams County Winery 251 Peach Tree Rd. Orrtanna\, PA 17353
UID:e.1500.4207
SEQUENCE:3
DTSTAMP:20260420T182712Z
URL:https://business.mainstreethanover.org/events/details/craft-class-finger-painting-4207
END:VEVENT

END:VCALENDAR
