BEGIN:VCALENDAR
VERSION:2.0
PRODID:-//ChamberMaster//Event Calendar 2.0//EN
METHOD:PUBLISH
X-PUBLISHED-TTL:P3D
REFRESH-INTERVAL:P3D
CALSCALE:GREGORIAN
BEGIN:VEVENT
DTSTART:20180610T170000Z
DTEND:20180610T190000Z
X-MICROSOFT-CDO-ALLDAYEVENT:FALSE
SUMMARY:Craft Class: Mason Jar Painting
DESCRIPTION:Join artist Dawn Spruill and learn how to paint a beautiful scene of flowers and dragonflies on a mason jar. The class is $40 per person\, which includes 2 mason jars to paint and all of your painting supplies. Reservations are required\, so call 717-334-4631 to reserve your spot!
X-ALT-DESC;FMTTYPE=text/html:Join artist Dawn Spruill and learn how to paint a beautiful scene of flowers and dragonflies on a mason jar. The class is $40 per person\, which includes 2 mason jars to paint and all of your painting supplies. Reservations are required\, so call 717-334-4631 to reserve your spot!
LOCATION:Adams County Winery 251 Peach Tree Rd. Orrtanna\, PA 17353
UID:e.1500.4205
SEQUENCE:3
DTSTAMP:20260420T215334Z
URL:https://business.mainstreethanover.org/events/details/craft-class-mason-jar-painting-4205
END:VEVENT

END:VCALENDAR
