BEGIN:VCALENDAR
VERSION:2.0
PRODID:-//ChamberMaster//Event Calendar 2.0//EN
METHOD:PUBLISH
X-PUBLISHED-TTL:P3D
REFRESH-INTERVAL:P3D
CALSCALE:GREGORIAN
BEGIN:VEVENT
DTSTART:20181021T170000Z
DTEND:20181021T190000Z
X-MICROSOFT-CDO-ALLDAYEVENT:FALSE
SUMMARY:Craft Class: Silk Scarf Painting
DESCRIPTION:Create wearable art with artist Dawn Spruill. The class is $40 per person and includes all the supplies you will need to create a beautiful scarf. Call 717-334-4631 to reserve your spot
X-ALT-DESC;FMTTYPE=text/html:Create wearable art with artist Dawn Spruill. The class is $40 per person and includes all the supplies you will need to create a beautiful scarf. Call 717-334-4631 to reserve your spot
LOCATION:Adams County Winery 251 Peach Tree Rd. Orrtanna\, PA 17353
UID:e.1500.4210
SEQUENCE:3
DTSTAMP:20260420T132532Z
URL:https://business.mainstreethanover.org/events/details/craft-class-silk-scarf-painting-4210
END:VEVENT

END:VCALENDAR
