BEGIN:VCALENDAR
VERSION:2.0
PRODID:-//ChamberMaster//Event Calendar 2.0//EN
METHOD:PUBLISH
X-PUBLISHED-TTL:P3D
REFRESH-INTERVAL:P3D
CALSCALE:GREGORIAN
BEGIN:VEVENT
DTSTART:20170130T220000Z
DTEND:20170131T020000Z
X-MICROSOFT-CDO-ALLDAYEVENT:FALSE
SUMMARY:Craft Tap Take Over at Bourbon Bar & Grill
DESCRIPTION:Bourbon Bar & Grill is excited to annouce that we are now open for business every Monday. Each Monday will be hosting Craft Tap Takeover and 1/2 priced appetizers all night long! \n\n\n\nWhat is tap takeover you ask? \nWith the huge growth in the production of craft beers over the past few years\, many breweries are competing for the hearts and minds of their avid consumers. One of the promotional events that brewers often do are "tap takeovers." \n\nThese events often draw a big crowd of enthusiastic customers excited to taste many of the featured brewer's beers. So stop on by and see who your favorites are. \n\n\n\nFeatured Breweries: \n\n\n\nJanuary 9th: Jacks Hard Cider \n\nJanuary 16th: Wyndridge Farms \n\nJanuary 23rd: Evolution Craft \n\nJanuary 30th: Tall Tale's \n\nFebruary 6th: Roy Pitz \n\nFebruary 13th: Collusion Tap Works \n\nFebruary 20th: Heavy Sea's \n\nFebruary 27th: Zero Day Brewing \n\nMarch 6th: Saint Boniface \n\nMarch 13th: Troegs \n\nMarch 20th: Molly Pitcher \n\nMarch 27th: Liquid Hero \n\nApril 3rd: Lancaster Brewing Company \n\nApril 10th: Evil Genius
X-ALT-DESC;FMTTYPE=text/html:Bourbon Bar &amp\; Grill is excited to annouce that we are now open for business every Monday. Each Monday will be hosting Craft Tap Takeover and 1/2 priced appetizers all night long!&nbsp\;<br />\n<br />\nWhat is tap takeover you ask?&nbsp\;\n<p>With the huge growth in the production of craft beers over the past few years\, many breweries are competing for the hearts and minds of their avid consumers. One of the promotional events that brewers often do are &quot\;tap takeovers.&quot\;&nbsp\;</p>\n\n<p>These events often draw a big crowd of enthusiastic customers excited to taste many of the featured brewer&#39\;s beers. So stop on by and see who your favorites are.&nbsp\;<br />\n<br />\nFeatured Breweries:&nbsp\;<br />\n<br />\nJanuary 9th: Jacks Hard Cider&nbsp\;<br />\nJanuary 16th: Wyndridge Farms&nbsp\;<br />\nJanuary 23rd: Evolution Craft&nbsp\;<br />\nJanuary 30th: Tall Tale&#39\;s&nbsp\;<br />\nFebruary 6th: Roy Pitz&nbsp\;<br />\nFebruary 13th: Collusion Tap Works&nbsp\;<br />\nFebruary 20th: Heavy Sea&#39\;s&nbsp\;<br />\nFebruary 27th: Zero Day Brewing&nbsp\;<br />\nMarch 6th: Saint Boniface&nbsp\;<br />\nMarch 13th: Troegs&nbsp\;<br />\nMarch 20th: Molly Pitcher&nbsp\;<br />\nMarch 27th: Liquid Hero&nbsp\;<br />\nApril 3rd: Lancaster Brewing Company&nbsp\;<br />\nApril 10th: Evil Genius&nbsp\;<br />\n&nbsp\;</p>\n
LOCATION:1080 Carlisle Street Hanover\, PA 17331
UID:e.1500.2298
SEQUENCE:3
DTSTAMP:20260421T230448Z
URL:https://business.mainstreethanover.org/events/details/craft-tap-take-over-at-bourbon-bar-grill-01-30-2017-2298
END:VEVENT

END:VCALENDAR
