BEGIN:VCALENDAR
VERSION:2.0
PRODID:-//ChamberMaster//Event Calendar 2.0//EN
METHOD:PUBLISH
X-PUBLISHED-TTL:P3D
REFRESH-INTERVAL:P3D
CALSCALE:GREGORIAN
BEGIN:VEVENT
DTSTART:20181010T130000Z
DTEND:20181010T143000Z
X-MICROSOFT-CDO-ALLDAYEVENT:FALSE
SUMMARY:Creating Sustainable Communities through Green Transportation in Adams County
DESCRIPTION:Join Commuter Services of Pennsylvania as they host "Creating Sustainable Communities through Green Transportation\," a FREE roundtable event where you can learn more about the importance of green transportation in the Adams County area. Professionals from the Statewide Traffic Management Center\, Freedom Transit\, Healthy Adams County Bicycle and Pedestrian\, and Commuter Services of Pennsylvania will come together to discuss how you and your business can benefit from using green commute modes for your work or personal commutes.
X-ALT-DESC;FMTTYPE=text/html:Join Commuter Services of Pennsylvania as they host &ldquo\;Creating Sustainable Communities through Green Transportation\,&rdquo\; a FREE roundtable event where you can learn more about the importance of green transportation in the Adams County area. Professionals from the Statewide Traffic Management Center\, Freedom Transit\, Healthy Adams County Bicycle and Pedestrian\, and Commuter Services of Pennsylvania will come together to discuss how you and your business can benefit from using green commute modes for your work or personal commutes.
LOCATION:Adams County Library 140 Baltimore Street Gettysburg\, PA 17325
UID:e.1500.4317
SEQUENCE:3
DTSTAMP:20260420T132725Z
URL:https://business.mainstreethanover.org/events/details/creating-sustainable-communities-through-green-transportation-in-adams-county-4317
END:VEVENT

END:VCALENDAR
