BEGIN:VCALENDAR
VERSION:2.0
PRODID:-//ChamberMaster//Event Calendar 2.0//EN
METHOD:PUBLISH
X-PUBLISHED-TTL:P3D
REFRESH-INTERVAL:P3D
CALSCALE:GREGORIAN
BEGIN:VEVENT
DTSTART:20180728T180000Z
DTEND:20180728T210000Z
X-MICROSOFT-CDO-ALLDAYEVENT:FALSE
SUMMARY:Culinary Fest
DESCRIPTION:Come see what culinary joys abound in south-central PA! Enjoy a fun afternoon of free music from the Jayplayers\, food trucks\, food vendors\, and wine. Ask our staff for suggested wine pairings.
X-ALT-DESC;FMTTYPE=text/html:Come see what culinary joys abound in south-central PA! Enjoy a fun afternoon of free music from the Jayplayers\, food trucks\, food vendors\, and wine. Ask our staff for suggested wine pairings.
LOCATION:Adams County Winery 251 Peach Tree Rd. Orrtanna\, PA 17353
UID:e.1500.4208
SEQUENCE:3
DTSTAMP:20260420T180738Z
URL:https://business.mainstreethanover.org/events/details/culinary-fest-4208
END:VEVENT

END:VCALENDAR
