BEGIN:VCALENDAR
VERSION:2.0
PRODID:-//ChamberMaster//Event Calendar 2.0//EN
METHOD:PUBLISH
X-PUBLISHED-TTL:P3D
REFRESH-INTERVAL:P3D
CALSCALE:GREGORIAN
BEGIN:VEVENT
DTSTART:20160527T160000Z
DTEND:20160527T210000Z
X-MICROSOFT-CDO-ALLDAYEVENT:FALSE
SUMMARY:Derby Day
DESCRIPTION:Enjoy Live music\, Stick Pony Races and Mint Julep Wine Cocktails at the Derby Day to raise money and awareness for the New Vocations Racehorse Adoption Program benefiting injured and retired racehorses. \n\nFor more information visit the Adams County winery on their website www.adamscountywinery.com
X-ALT-DESC;FMTTYPE=text/html:Enjoy Live music\, Stick Pony Races and Mint Julep Wine Cocktails at the Derby Day to raise money and awareness for the New Vocations Racehorse Adoption Program benefiting injured and retired racehorses.&nbsp\;<br />\nFor more information visit the Adams County winery on their website www.adamscountywinery.com
LOCATION:Adams County Farm Winery 251 Peach Tree Rd. Orrtanna\, PA 17353
UID:e.1500.1064
SEQUENCE:3
DTSTAMP:20260422T113622Z
URL:https://business.mainstreethanover.org/events/details/derby-day-05-27-2016-1064
END:VEVENT

END:VCALENDAR
