BEGIN:VCALENDAR
VERSION:2.0
PRODID:-//ChamberMaster//Event Calendar 2.0//EN
METHOD:PUBLISH
X-PUBLISHED-TTL:P3D
REFRESH-INTERVAL:P3D
CALSCALE:GREGORIAN
BEGIN:VEVENT
DTSTART:20180110T190000Z
DTEND:20180110T203000Z
X-MICROSOFT-CDO-ALLDAYEVENT:FALSE
SUMMARY:Do's and Don'ts: Lessons from the Lawyer's Library
DESCRIPTION:Join Stock and Leader's Agricultural Industry Group during the 2018 Keystone Farm Show as they recount the real life scenarios that landed farmers in hot water and how you can avoid the same mistakes.\n\n\n	How NOT to Interact with DEP\n	Mistakes with Co-Mingling Money\n	When Insurance Doesn't Insure\n	Clean and Green Gets Messy\n\n\nBonus topic!\n\n\n	Pipelines\, Power Lines\, and Eminent Domain: What You Need to Know\n\n\nRegistration is required by January 3.
X-ALT-DESC;FMTTYPE=text/html:<p>Join&nbsp\;<a href="http://www.stockandleader.com/" style="color: rgb(7\, 130\, 193)\;">Stock and Leader&#39\;s</a>&nbsp\;<a href="http://www.stockandleader.com/business-law/agricultural-law" style="color: rgb(7\, 130\, 193)\;">Agricultural Industry Group</a>&nbsp\;during the 2018 Keystone Farm Show as they recount the real life scenarios that landed farmers in hot water and how you can avoid the same mistakes.</p>\n\n<ul>\n	<li>How NOT to Interact with DEP</li>\n	<li>Mistakes with Co-Mingling Money</li>\n	<li>When Insurance Doesn&rsquo\;t Insure</li>\n	<li>Clean and Green Gets Messy</li>\n</ul>\n\n<p><strong>Bonus topic!</strong></p>\n\n<ul>\n	<li>Pipelines\, Power Lines\, and Eminent Domain: What You Need to Know</li>\n</ul>\n\n<p>Registration is required by January 3.</p>\n
LOCATION:York Fairgrounds Utz Arena Building #1\, Seminar Room #2
UID:e.1500.3099
SEQUENCE:3
DTSTAMP:20260421T043201Z
URL:https://business.mainstreethanover.org/events/details/do-s-and-don-ts-lessons-from-the-lawyer-s-library-3099
END:VEVENT

END:VCALENDAR
