BEGIN:VCALENDAR
VERSION:2.0
PRODID:-//ChamberMaster//Event Calendar 2.0//EN
METHOD:PUBLISH
X-PUBLISHED-TTL:P3D
REFRESH-INTERVAL:P3D
CALSCALE:GREGORIAN
BEGIN:VEVENT
DTSTART:20160511T233000Z
DTEND:20160512T003000Z
X-MICROSOFT-CDO-ALLDAYEVENT:FALSE
SUMMARY:Dos and Don'ts with DEP: Is Your Farm Ready for Inspection?
DESCRIPTION:Join Stock and Leader's Agricultural Industry Team for a free program addressing the dos and don'ts for farming operations or agribusinesses facing inspection by the Department of Environmental Protection and County Conservation District.\n\n\n\nWhat You'll Learn:\n\n	Will the DEP Chesapeake Bay Clean-up plan affect your farm or agribusiness?\n	What should you do to prepare for a compliance inspection?\n	What happens if you are out of compliance?\n	What could put you in "hot water" with an inspector?
X-ALT-DESC;FMTTYPE=text/html:Join <a href="http://www.stockandleader.com/">Stock and Leader&#39\;s</a> <a href="http://www.stockandleader.com/services/businesses-and-entrepreneurs/agricultural-industry.aspx">Agricultural Industry Team</a> for a free program addressing the dos and don&rsquo\;ts for farming operations or agribusinesses facing inspection by the Department of Environmental Protection and County Conservation District.<br />\n<br />\nWhat You&#39\;ll Learn:\n<ul>\n	<li>Will the DEP Chesapeake Bay Clean-up plan affect your farm or agribusiness?</li>\n	<li>What should you do to prepare for a compliance inspection?</li>\n	<li>What happens if you are out of compliance?</li>\n	<li>What could put you in &ldquo\;hot water&rdquo\; with an inspector?&nbsp\;</li>\n</ul>\n
LOCATION:North Hopewell-Winterstown Volunteer Fire Company 12246 Winterstown Road\, Felton
UID:e.1500.1098
SEQUENCE:3
DTSTAMP:20260422T115017Z
URL:https://business.mainstreethanover.org/events/details/dos-and-don-ts-with-dep-is-your-farm-ready-for-inspection-05-11-2016-1098
END:VEVENT

END:VCALENDAR
