BEGIN:VCALENDAR
VERSION:2.0
PRODID:-//ChamberMaster//Event Calendar 2.0//EN
METHOD:PUBLISH
X-PUBLISHED-TTL:P3D
REFRESH-INTERVAL:P3D
CALSCALE:GREGORIAN
BEGIN:VEVENT
DTSTART:20181024T110000Z
DTEND:20181024T160000Z
X-MICROSOFT-CDO-ALLDAYEVENT:FALSE
SUMMARY:Driving Employee Engagement - Hanover Area HR Association Breakfast Seminar
DESCRIPTION:Hanover Area Human Resources Association (HAHRA) 2018 Fall Breakfast Seminar - \n\n"Driving Employee Engagement" \n\n\n\nEmployee engagement has emerged as a critical driver of business success in today's competitive marketplace. High levels of engagement promote retention of talent\, foster customer loyalty and improve organizational performance and stakeholder value.   \n\nAccording to a recent Gallup report\, "State of the American Workplace\," only 33% of U.S. employees are engaged at work. Achieving significantly higher levels of employee engagement is possible! Join us for an interactive\, results-based\, half-day seminar for Human Resources and other professionals at all levels\, and learn how to increase employee engagement and make a positive impact on organizational performance.\n\n\n\nThis seminar will cover the following topics on Driving Employee Engagement: \n\n	Why Employee Engagement Matters\n	Roles/Functions in Driving Employee Engagement\n	Strategies to Improve Employee Engagement\n	Make the Business Case\n	Call to Action  \n\nSpeakers: \n\nGrace W. B. Elsner is founder and owner of Organization Development and Training\, a strategic consulting\, coaching and change leadership firm.  Elsner has over twenty-five years' experience in leading and managing transformative change\, developing leaders\, facilitating strategic communications\, delivering exceptional service and maximizing organizational performance.  \n\nElsner designs and facilitates customized workshops\, retreats\, meetings\, executive offsites\, team building and coaching focusing on strategic planning\, leadership\, change management\, teamwork\, communications\, service excellence and organizational effectiveness.  She provides results-based consulting\, organizational assessment\, training and executive coaching for a wide range of clients\, including healthcare systems\, manufacturing and service-based companies\, federal and state agencies\, educational institutions and nonprofits.  She has served as adjunct faculty for University of Maryland\, Towson University\, Baltimore City Community College\, and has been a guest lecturer at Penn State University. \n\nElsner holds an M.S. in Applied Behavioral Science from John Hopkins University and a B.A. in Speech Communication from Shippensburg University.  She is also a graduate of the Fellows in Change Management leadership program at Johns Hopkins University. \n\nElsner has served in numerous volunteer and leadership capacities for United Way of York County\, American Red Cross\, VNA of Hanover and Spring Grove\, First United Methodist Church\, Hanover Area Chamber of Commerce and Shippensburg University\, and is a past recipient of the YWCA Hanover Women Making a Difference award. \n\n\n\nKim Kerrigan has held HR Management positions for over fifteen years and is currently the Vice President\, Human Resources - Manufacturing for Sheridan.  Kim joined HAHRA in 2001 and has held many roles over the years.  She served as Chairperson on Membership Committee\, volunteers on the Chapter Certification Committee and currently serves as Vice President and Co-chairperson on the Professional Development Committee.  Kim is an advocate for continuing education and is a volunteer instructor for the Hanover Area Management Association and has served as their Education Chairperson. \n\nKim holds a Bachelor of Science degree from Colorado Technical University in Business Administration with a concentration in Human Resources Management and her Master's degree in Business Administration with a concentration in Leadership from Post University.  Kim holds her Senior Professional in Human Resources SPHR an SHRM-CSP certifications. \n\nKim is a Certified Coach\, Teacher\, Trainer and Speaker with the John Maxwell Team\, an organization focused on adding value to people worldwide through leadership training\, talent and skills.       \n\n                                       \n\nSeminar Details:\n\n Date:\n\n\n	Wednesday\, October 24\, 2018\n\nTime:\n\n\n	Registration   Begins at 7:00am\n	Breakfast   Breakfast Buffet served at 7:30am\n	Programming   8:00am - Noon\n\nLocation: \n\n\n	Bay City Restaurant\n\n	\n		110 Eisenhower Drive\, Hanover\, PA 17331 \n	\n	\n\nRegistration:\n\n\n	Please register online at http://www.123formbuilder.com/form-3629807/Seminar\n	Cost for Attendance (includes Meal & Program):\n	\n		HAHRA Member: $50\n		Non-Member/Guest: $75 \n	\n	\n\n**Please note that the deadline to register is Friday\, October 19\, 2018.**\n\nIf you are trying to register after the deadline or have general questions\, please contact our Treasurer\, Jenn Kremenik\, at jkremenik@flowserve.com or 443-821-1140 to check availability for the event.
X-ALT-DESC;FMTTYPE=text/html:<strong><span style="font-size:24pt"><span style="font-family:calibri">Hanover Area Human Resources Association (HAHRA) 2018&nbsp\;Fall Breakfast Seminar - </span></span></strong><br />\n<strong><span style="font-size:24pt"><span style="font-family:calibri">&quot\;Driving Employee Engagement&quot\; </span></span></strong><br />\n<br />\n<span style="font-size:12pt"><span style="font-family:calibri">Employee engagement has emerged as a critical driver of business success in today&#39\;s competitive marketplace. High levels of engagement promote retention of talent\, foster customer loyalty and improve organizational performance and stakeholder value.&nbsp\;&nbsp\; </span></span><br />\n<span style="font-size:12pt"><span style="font-family:calibri">According to a recent Gallup report\, &ldquo\;State of the American Workplace\,&rdquo\; only 33% of U.S. employees are engaged at work. Achieving significantly higher levels of employee engagement is possible! Join us for an interactive\, results-based\, half-day seminar for Human Resources and other professionals at all levels\, and learn how to increase employee engagement and make a positive impact on organizational performance.</span></span><br />\n<br />\n<span style="font-size:12pt"><span style="font-family:calibri">This seminar will cover the following topics on Driving Employee Engagement:&nbsp\;</span></span>\n<ul>\n	<li><span style="font-size:12pt">Why Employee Engagement Matters</span></li>\n	<li><span style="font-size:12pt">Roles/Functions in Driving Employee Engagement</span></li>\n	<li><span style="font-size:12pt">Strategies to Improve Employee Engagement</span></li>\n	<li><span style="font-size:12pt">Make the Business Case</span></li>\n	<li><span style="font-size:12pt">Call to Action &nbsp\;</span></li>\n</ul>\n<span style="font-family:calibri"><strong><u><span style="font-size:12pt">Speakers:</span></u></strong>&nbsp\;</span><br />\n<span style="font-family:calibri"><strong><span style="font-size:12pt">Grace W. B. Elsner</span></strong><span style="font-size:12pt"> is founder and owner of Organization Development and Training\, a strategic consulting\, coaching and change leadership firm.&nbsp\; Elsner has over twenty-five years&rsquo\; experience in leading and managing transformative change\, developing leaders\, facilitating strategic communications\, delivering exceptional service and maximizing organizational performance. &nbsp\;</span></span><br />\n<span style="font-size:12pt"><span style="font-family:calibri">Elsner designs and facilitates customized workshops\, retreats\, meetings\, executive offsites\, team building and coaching focusing on strategic planning\, leadership\, change management\, teamwork\, communications\, service excellence and organizational effectiveness.&nbsp\; She provides results-based consulting\, organizational assessment\, training and executive coaching for a wide range of clients\, including healthcare systems\, manufacturing and service-based companies\, federal and state agencies\, educational institutions and nonprofits.&nbsp\; She has served as adjunct faculty for University of Maryland\, Towson University\, Baltimore City Community College\, and has been a guest lecturer at Penn State University.&nbsp\;</span></span><br />\n<span style="font-size:12pt"><span style="font-family:calibri">Elsner holds an M.S. in Applied Behavioral Science from John Hopkins University and a B.A. in Speech Communication from Shippensburg University.&nbsp\; She is also a graduate of the Fellows in Change Management leadership program at Johns Hopkins University.&nbsp\;</span></span><br />\n<span style="font-size:12pt"><span style="font-family:calibri">Elsner has served in numerous volunteer and leadership capacities for United Way of York County\, American Red Cross\, VNA of Hanover and Spring Grove\, First United Methodist Church\, Hanover Area Chamber of Commerce and Shippensburg University\, and is a past recipient of the YWCA Hanover Women Making a Difference award.&nbsp\;</span></span><br />\n<br />\n<span style="font-family:calibri"><strong><span style="font-size:12pt">Kim Kerrigan</span></strong><span style="font-size:12pt"> has held HR Management positions for over fifteen years and is currently the Vice President\, Human Resources - Manufacturing for Sheridan.&nbsp\; Kim joined HAHRA in 2001 and has held many roles over the years.&nbsp\; She served as Chairperson on Membership Committee\, volunteers on the Chapter Certification Committee and currently serves as Vice President and Co-chairperson on the Professional Development Committee.&nbsp\; Kim is an advocate for continuing education and is a volunteer instructor for the Hanover Area Management Association and has served as their Education Chairperson.&nbsp\;</span></span><br />\n<span style="font-size:12pt"><span style="font-family:calibri">Kim holds a Bachelor of Science degree from Colorado Technical University in Business Administration with a concentration in Human Resources Management and her Master&#39\;s degree in Business Administration with a concentration in Leadership from Post University.&nbsp\; Kim holds her Senior Professional in Human Resources SPHR an SHRM-CSP certifications.&nbsp\;</span></span><br />\n<span style="font-size:12pt"><span style="font-family:calibri">Kim is a Certified Coach\, Teacher\, Trainer and Speaker with the John Maxwell Team\, an organization focused on adding value to people worldwide through leadership training\, talent and skills.&nbsp\;&nbsp\;&nbsp\;&nbsp\;&nbsp\;&nbsp\;&nbsp\;<br />\n&nbsp\;&nbsp\;&nbsp\;&nbsp\;&nbsp\;&nbsp\;&nbsp\;&nbsp\;&nbsp\;&nbsp\;&nbsp\;&nbsp\;&nbsp\;&nbsp\;&nbsp\;&nbsp\;&nbsp\;&nbsp\;&nbsp\;&nbsp\;&nbsp\;&nbsp\;&nbsp\;&nbsp\;&nbsp\;&nbsp\;&nbsp\;&nbsp\;&nbsp\;&nbsp\;&nbsp\;&nbsp\;&nbsp\;&nbsp\;&nbsp\;&nbsp\;&nbsp\;&nbsp\;&nbsp\;</span></span><br />\n<strong><span style="font-size:13.5pt"><span style="font-family:calibri">Seminar Details:</span></span></strong><br />\n<span style="font-size:13.5pt"><span style="font-family:calibri">&nbsp\;<strong>Date:</strong></span></span>\n\n<ul>\n	<li><span style="font-size:13.5pt">Wednesday\, October 24\, 2018</span></li>\n</ul>\n<strong><span style="font-size:13.5pt"><span style="font-family:calibri">Time:</span></span></strong>\n\n<ul>\n	<li><span style="font-size:13.5pt">Registration &ndash\; Begins at 7:00am</span></li>\n	<li><span style="font-size:13.5pt">Breakfast&nbsp\;&ndash\;&nbsp\;Breakfast Buffet served at 7:30am</span></li>\n	<li><span style="font-size:13.5pt">Programming &ndash\; 8:00am - Noon</span></li>\n</ul>\n<span style="font-family:calibri"><strong><span style="font-size:13.5pt">Location:</span></strong>&nbsp\;</span>\n\n<ul>\n	<li><span style="font-size:13.5pt">Bay City Restaurant</span>\n\n	<ul>\n		<li><span style="font-size:13.5pt">110 Eisenhower Drive\, Hanover\, PA 17331&nbsp\;</span></li>\n	</ul>\n	</li>\n</ul>\n<strong><span style="font-size:13.5pt"><span style="font-family:calibri">Registration:</span></span></strong>\n\n<ul>\n	<li><span style="font-size:13.5pt">Please register online at </span><a href="https://linkprotect.cudasvc.com/url?a=http%3a%2f%2fwww.123formbuilder.com%2fform-3629807%2fSeminar&amp\;c=E\,1\,mc5hj4dBhG2cP0_I4fsLR5t3xmPoPH1ltminH28jGFIXP96W0ZcNsb3S6BE8McsKp5ZFxuL-Jhvnjp0ctDOMyKjYdFxvr9iZTFFU_n-hsigq5UjFb7j1JqoE8K5v&amp\;typo=1"><span style="font-size:13.5pt"><span style="color:windowtext">http://www.123formbuilder.com/form-3629807/Seminar</span></span></a></li>\n	<li><span style="font-size:13.5pt">Cost for Attendance (includes Meal &amp\; Program):</span>\n	<ul>\n		<li><span style="font-size:13.5pt">HAHRA Member: $50</span></li>\n		<li><span style="font-size:13.5pt">Non-Member/Guest: $75 </span></li>\n	</ul>\n	</li>\n</ul>\n<span style="font-size:13.5pt"><span style="font-family:calibri">**Please note that the deadline to register is&nbsp\;<strong><u>Friday\, October 19\, 2018</u></strong>.**</span></span><br />\n<span style="font-size:13.5pt"><span style="font-family:calibri">If you are trying to register after the deadline or have general questions\, please contact our Treasurer\, Jenn Kremenik\, at </span></span><span style="font-size:13.5pt"><span style="color:windowtext"><span style="font-family:calibri">jkremenik@flowserve.com</span></span></span><span style="font-size:13.5pt"><span style="font-family:calibri"> or 443-821-1140 to check availability for the event. </span></span><br />\n&nbsp\;
LOCATION:Bay City Restaurant\, 110 Eisenhower Drive\, Hanover\, PA 17331
UID:e.1500.4320
SEQUENCE:3
DTSTAMP:20260420T132728Z
URL:https://business.mainstreethanover.org/events/details/driving-employee-engagement-hanover-area-hr-association-breakfast-seminar-4320
END:VEVENT

END:VCALENDAR
