BEGIN:VCALENDAR
VERSION:2.0
PRODID:-//ChamberMaster//Event Calendar 2.0//EN
METHOD:PUBLISH
X-PUBLISHED-TTL:P3D
REFRESH-INTERVAL:P3D
CALSCALE:GREGORIAN
BEGIN:VEVENT
DTSTART:20180222T133000Z
DTEND:20180222T160000Z
X-MICROSOFT-CDO-ALLDAYEVENT:FALSE
SUMMARY:Energy Efficiency Program
DESCRIPTION:This free workshop will be provided by FirstEnergy's Pennsylvania utilities and Sodexo. Attendees will learn more about energy efficiency programs\, including:\n\n  Who is Sodexo\n\n  How to apply for rebates using our new online portal\n\n  Ways to save money and energy at your facility\n\n  Eligible equipment including lighting\, motors and drives\, HVAC\, controls and more\n\n  Available resources - new website and marketing materials
X-ALT-DESC;FMTTYPE=text/html:This free workshop will be provided by FirstEnergy&rsquo\;s Pennsylvania utilities and Sodexo. Attendees will learn more about energy efficiency programs\, including:<br />\n&bull\; Who is Sodexo<br />\n&bull\; How to apply for rebates using our new online portal<br />\n&bull\; Ways to save money and energy at your facility<br />\n&bull\; Eligible equipment including lighting\, motors and drives\, HVAC\, controls and more<br />\n&bull\; Available resources - new website and marketing materials
LOCATION:Cross Key Diner & Banquet Center 6110 York Rd. New Oxford\, PA 17350
UID:e.1500.3131
SEQUENCE:3
DTSTAMP:20260421T025114Z
URL:https://business.mainstreethanover.org/events/details/energy-efficiency-program-3131
END:VEVENT

END:VCALENDAR
