BEGIN:VCALENDAR
VERSION:2.0
PRODID:-//ChamberMaster//Event Calendar 2.0//EN
METHOD:PUBLISH
X-PUBLISHED-TTL:P3D
REFRESH-INTERVAL:P3D
CALSCALE:GREGORIAN
BEGIN:VEVENT
DTSTART:20151120T233000Z
DTEND:20151121T013000Z
X-MICROSOFT-CDO-ALLDAYEVENT:FALSE
SUMMARY:Entrepreneur Network & Learn
DESCRIPTION:Join local business owners to share information about your business\, learn of others\, enjoy refreshments\, and more Includes: Lite refreshments Tea and soft drinks Entrepreneurial presentation/discussion Business networking Door prizes
X-ALT-DESC;FMTTYPE=text/html:Join local business owners to share information about your business\, learn of others\, enjoy refreshments\, and more Includes: Lite refreshments Tea and soft drinks Entrepreneurial presentation/discussion Business networking Door prizes
LOCATION:Eggspectation 6010 University Blvd Ellicott City\, MD 21043
UID:e.1500.1021
SEQUENCE:3
DTSTAMP:20260422T200917Z
URL:https://business.mainstreethanover.org/events/details/entrepreneur-network-learn-11-20-2015-1021
END:VEVENT

END:VCALENDAR
