BEGIN:VCALENDAR
VERSION:2.0
PRODID:-//ChamberMaster//Event Calendar 2.0//EN
METHOD:PUBLISH
X-PUBLISHED-TTL:P3D
REFRESH-INTERVAL:P3D
CALSCALE:GREGORIAN
BEGIN:VEVENT
DTSTART:20170118T123000Z
DTEND:20170118T133000Z
X-MICROSOFT-CDO-ALLDAYEVENT:FALSE
SUMMARY:Eye Opener Breakfast- 01/18/2017
DESCRIPTION:Come Join Us For Our Eye Opener Breakfast!\n\nSponsored by: M&T Bank
X-ALT-DESC;FMTTYPE=text/html:<strong>Come Join Us For Our Eye Opener Breakfast!<br />\nSponsored by: M&amp\;T Bank</strong>
LOCATION:Bay City Restaurant 110 Eisenhower Drive Hanover\, PA 17331
UID:e.1500.1215
SEQUENCE:3
DTSTAMP:20260421T230134Z
URL:https://business.mainstreethanover.org/events/details/eye-opener-breakfast-01-18-2017-1215
END:VEVENT

END:VCALENDAR
