BEGIN:VCALENDAR
VERSION:2.0
PRODID:-//ChamberMaster//Event Calendar 2.0//EN
METHOD:PUBLISH
X-PUBLISHED-TTL:P3D
REFRESH-INTERVAL:P3D
CALSCALE:GREGORIAN
BEGIN:VEVENT
DTSTART:20160217T123000Z
DTEND:20160217T133000Z
X-MICROSOFT-CDO-ALLDAYEVENT:FALSE
SUMMARY:Eye Opener Breakfast 02/17/2016
DESCRIPTION:Come Join Us For Our Eye Opener Breakfast!\n\nSponsored by Hoffman Homes for Youth
X-ALT-DESC;FMTTYPE=text/html:<strong>Come Join Us For Our Eye Opener Breakfast!<br />\nSponsored by Hoffman Homes for Youth</strong>
LOCATION:Chick Fil A 340 Eisenhower Dr\, Hanover\, PA 17331
UID:e.1500.988
SEQUENCE:3
DTSTAMP:20260422T172003Z
URL:https://business.mainstreethanover.org/events/details/eye-opener-breakfast-02-17-2016-02-17-2016-988
END:VEVENT

END:VCALENDAR
