BEGIN:VCALENDAR
VERSION:2.0
PRODID:-//ChamberMaster//Event Calendar 2.0//EN
METHOD:PUBLISH
X-PUBLISHED-TTL:P3D
REFRESH-INTERVAL:P3D
CALSCALE:GREGORIAN
BEGIN:VEVENT
DTSTART:20160316T113000Z
DTEND:20160316T123000Z
X-MICROSOFT-CDO-ALLDAYEVENT:FALSE
SUMMARY:Eye Opener Breakfast 03/16/2016
DESCRIPTION:Come Join Us For Our Eye Opener Breakfast!\n\nSponsored by Penn National Insurance
X-ALT-DESC;FMTTYPE=text/html:<strong>Come Join Us For Our Eye Opener Breakfast!<br />\nSponsored by Penn National Insurance&nbsp\;</strong>
LOCATION:South Western High School 200 Bowman Rd\, Hanover\, PA 17331
UID:e.1500.1013
SEQUENCE:3
DTSTAMP:20260422T143427Z
URL:https://business.mainstreethanover.org/events/details/eye-opener-breakfast-03-16-2016-03-16-2016-1013
END:VEVENT

END:VCALENDAR
