BEGIN:VCALENDAR
VERSION:2.0
PRODID:-//ChamberMaster//Event Calendar 2.0//EN
METHOD:PUBLISH
X-PUBLISHED-TTL:P3D
REFRESH-INTERVAL:P3D
CALSCALE:GREGORIAN
BEGIN:VEVENT
DTSTART:20150415T113000Z
DTEND:20150415T123000Z
X-MICROSOFT-CDO-ALLDAYEVENT:FALSE
SUMMARY:Eye Opener Breakfast 04/15/2015
DESCRIPTION:Come Join Us For Our Eye Opener Breakfast\,\n\nSponsored by ComForcare Senior Services!
X-ALT-DESC;FMTTYPE=text/html:<strong>Come Join Us For Our Eye Opener Breakfast\,<br />\nSponsored by ComForcare Senior Services!</strong>
LOCATION:Delone Catholic High School 140 S Oxford Ave McSherrystown\, PA 17344
UID:e.1500.774
SEQUENCE:3
DTSTAMP:20260423T074022Z
URL:https://business.mainstreethanover.org/events/details/eye-opener-breakfast-04-15-2015-04-15-2015-774
END:VEVENT

END:VCALENDAR
