BEGIN:VCALENDAR
VERSION:2.0
PRODID:-//ChamberMaster//Event Calendar 2.0//EN
METHOD:PUBLISH
X-PUBLISHED-TTL:P3D
REFRESH-INTERVAL:P3D
CALSCALE:GREGORIAN
BEGIN:VEVENT
DTSTART:20170517T113000Z
DTEND:20170517T123000Z
X-MICROSOFT-CDO-ALLDAYEVENT:FALSE
SUMMARY:Eye Opener Breakfast- 05/17/2017
DESCRIPTION:Come Join Us For Our Eye Opener Breakfast!\n\nSponsored by Member's 1st Federal Credit Union
X-ALT-DESC;FMTTYPE=text/html:<strong style="color: rgb(51\, 51\, 51)\; font-family: sans-serif\, Arial\, Verdana\, &quot\;Trebuchet MS&quot\;\; font-size: 13px\; line-height: 20.8px\;">Come Join Us For Our Eye Opener Breakfast!<br />\nSponsored by Member&#39\;s 1st Federal Credit Union</strong>\n<div>&nbsp\;</div>\n
LOCATION:Bay City Restaurant 110 Eisenhower Drive Hanover\, PA 17331
UID:e.1500.1219
SEQUENCE:3
DTSTAMP:20260421T183059Z
URL:https://business.mainstreethanover.org/events/details/eye-opener-breakfast-05-17-2017-1219
END:VEVENT

END:VCALENDAR
