BEGIN:VCALENDAR
VERSION:2.0
PRODID:-//ChamberMaster//Event Calendar 2.0//EN
METHOD:PUBLISH
X-PUBLISHED-TTL:P3D
REFRESH-INTERVAL:P3D
CALSCALE:GREGORIAN
BEGIN:VEVENT
DTSTART:20160518T113000Z
DTEND:20160518T123000Z
X-MICROSOFT-CDO-ALLDAYEVENT:FALSE
SUMMARY:Eye Opener Breakfast 05/18/2016
DESCRIPTION:Come Join Us for our Eye Opener Breakfast!\n\nSponsored by Member's 1st
X-ALT-DESC;FMTTYPE=text/html:Come Join Us for our Eye Opener Breakfast!<br />\nSponsored by Member&#39\;s 1st
LOCATION:YWCA 23 W Chestnut St\, Hanover\, PA 17331
UID:e.1500.1015
SEQUENCE:3
DTSTAMP:20260422T114706Z
URL:https://business.mainstreethanover.org/events/details/eye-opener-breakfast-05-18-2016-05-18-2016-1015
END:VEVENT

END:VCALENDAR
