BEGIN:VCALENDAR
VERSION:2.0
PRODID:-//ChamberMaster//Event Calendar 2.0//EN
METHOD:PUBLISH
X-PUBLISHED-TTL:P3D
REFRESH-INTERVAL:P3D
CALSCALE:GREGORIAN
BEGIN:VEVENT
DTSTART:20150520T113000Z
DTEND:20150520T123000Z
X-MICROSOFT-CDO-ALLDAYEVENT:FALSE
SUMMARY:Eye Opener Breakfast 05/20/2015
DESCRIPTION:Come Join Us For Our Eye Opener Breakfast!\n\nSponsored by Members 1st Federal Credit Union
X-ALT-DESC;FMTTYPE=text/html:<strong>Come Join Us For Our Eye Opener Breakfast!<br />\nSponsored by Members 1st Federal Credit Union</strong>
LOCATION:Hanover YWCA 23 W. Chestnut St. Hanover\, PA 17331
UID:e.1500.775
SEQUENCE:3
DTSTAMP:20260423T074021Z
URL:https://business.mainstreethanover.org/events/details/eye-opener-breakfast-05-20-2015-05-20-2015-775
END:VEVENT

END:VCALENDAR
