BEGIN:VCALENDAR
VERSION:2.0
PRODID:-//ChamberMaster//Event Calendar 2.0//EN
METHOD:PUBLISH
X-PUBLISHED-TTL:P3D
REFRESH-INTERVAL:P3D
CALSCALE:GREGORIAN
BEGIN:VEVENT
DTSTART:20160615T113000Z
DTEND:20160615T123000Z
X-MICROSOFT-CDO-ALLDAYEVENT:FALSE
SUMMARY:Eye Opener Breakfast 06/15/2016
DESCRIPTION:Come Join us for an Eye Opener Breakfast!\n\nSponsored by VNA of Hanover and Spring Grove
X-ALT-DESC;FMTTYPE=text/html:Come Join us for an Eye Opener Breakfast!<br />\nSponsored by VNA of Hanover and Spring Grove
LOCATION:Hickory Falls 10 Hickory Ln\, Hanover\, PA 17331
UID:e.1500.1016
SEQUENCE:3
DTSTAMP:20260422T102250Z
URL:https://business.mainstreethanover.org/events/details/eye-opener-breakfast-06-15-2016-06-15-2016-1016
END:VEVENT

END:VCALENDAR
