BEGIN:VCALENDAR
VERSION:2.0
PRODID:-//ChamberMaster//Event Calendar 2.0//EN
METHOD:PUBLISH
X-PUBLISHED-TTL:P3D
REFRESH-INTERVAL:P3D
CALSCALE:GREGORIAN
BEGIN:VEVENT
DTSTART:20150617T113000Z
DTEND:20150617T123000Z
X-MICROSOFT-CDO-ALLDAYEVENT:FALSE
SUMMARY:Eye Opener Breakfast 06/17/2015
DESCRIPTION:Come Join Us For Our Eye Opener Breakfast!\n\nSponsored by Visiting Nurse Association of Hanover & Spring Grove!
X-ALT-DESC;FMTTYPE=text/html:<strong>Come Join Us For Our Eye Opener Breakfast!<br />\nSponsored by Visiting Nurse Association of Hanover &amp\; Spring Grove! </strong>
LOCATION:Hoss's 1180 Carlisle St. Hanover PA 17331
UID:e.1500.776
SEQUENCE:3
DTSTAMP:20260423T054436Z
URL:https://business.mainstreethanover.org/events/details/eye-opener-breakfast-06-17-2015-06-17-2015-776
END:VEVENT

END:VCALENDAR
