BEGIN:VCALENDAR
VERSION:2.0
PRODID:-//ChamberMaster//Event Calendar 2.0//EN
METHOD:PUBLISH
X-PUBLISHED-TTL:P3D
REFRESH-INTERVAL:P3D
CALSCALE:GREGORIAN
BEGIN:VEVENT
DTSTART:20150715T113000Z
DTEND:20150715T123000Z
X-MICROSOFT-CDO-ALLDAYEVENT:FALSE
SUMMARY:Eye Opener Breakfast 07/15/2015
DESCRIPTION:Come Join Us For Our Eye Opener Breakfast!\n\nSponsored by Hanover Hospital!
X-ALT-DESC;FMTTYPE=text/html:<strong>Come Join Us For Our Eye Opener Breakfast!<br />\nSponsored by Hanover Hospital!</strong>
LOCATION:YMCA of Hanover 500 George St Hanover\, PA 17331
UID:e.1500.777
SEQUENCE:3
DTSTAMP:20260423T023046Z
URL:https://business.mainstreethanover.org/events/details/eye-opener-breakfast-07-15-2015-07-15-2015-777
END:VEVENT

END:VCALENDAR
