BEGIN:VCALENDAR
VERSION:2.0
PRODID:-//ChamberMaster//Event Calendar 2.0//EN
METHOD:PUBLISH
X-PUBLISHED-TTL:P3D
REFRESH-INTERVAL:P3D
CALSCALE:GREGORIAN
BEGIN:VEVENT
DTSTART:20160817T113000Z
DTEND:20160817T123000Z
X-MICROSOFT-CDO-ALLDAYEVENT:FALSE
SUMMARY:Eye Opener Breakfast 08/17/2016
DESCRIPTION:Come Join Us For Our Eye Opener Breakfast!\n\nSponsored by the Glatfelter Agency
X-ALT-DESC;FMTTYPE=text/html:<strong>Come Join Us For Our Eye Opener Breakfast!<br />\nSponsored by the Glatfelter Agency&nbsp\;</strong>
LOCATION:Dutch Country Restaurant 946 Baltimore St\, Hanover\, PA 17331
UID:e.1500.1018
SEQUENCE:3
DTSTAMP:20260422T071208Z
URL:https://business.mainstreethanover.org/events/details/eye-opener-breakfast-08-17-2016-08-17-2016-1018
END:VEVENT

END:VCALENDAR
