BEGIN:VCALENDAR
VERSION:2.0
PRODID:-//ChamberMaster//Event Calendar 2.0//EN
METHOD:PUBLISH
X-PUBLISHED-TTL:P3D
REFRESH-INTERVAL:P3D
CALSCALE:GREGORIAN
BEGIN:VEVENT
DTSTART:20170920T113000Z
DTEND:20170920T123000Z
X-MICROSOFT-CDO-ALLDAYEVENT:FALSE
SUMMARY:Eye Opener Breakfast 09/20/17
DESCRIPTION:Come Join Us For Our Eye Opener Breakfast!\n\nSponsored by APPl
X-ALT-DESC;FMTTYPE=text/html:<strong>Come Join Us For Our Eye Opener Breakfast!<br />\nSponsored by APPl</strong>
LOCATION:Bay City Restaurant 110 Eisenhower Drive Hanover\, PA 17331
UID:e.1500.1253
SEQUENCE:3
DTSTAMP:20260421T122627Z
URL:https://business.mainstreethanover.org/events/details/eye-opener-breakfast-09-20-17-1253
END:VEVENT

END:VCALENDAR
