BEGIN:VCALENDAR
VERSION:2.0
PRODID:-//ChamberMaster//Event Calendar 2.0//EN
METHOD:PUBLISH
X-PUBLISHED-TTL:P3D
REFRESH-INTERVAL:P3D
CALSCALE:GREGORIAN
BEGIN:VEVENT
DTSTART:20181017T113000Z
DTEND:20181017T123000Z
X-MICROSOFT-CDO-ALLDAYEVENT:FALSE
SUMMARY:Eye Opener Breakfast 10/17/2018
DESCRIPTION:Come Join Us For Our Eye Opener Breakfast!\n\nSponsored by:
X-ALT-DESC;FMTTYPE=text/html:<strong>Come Join Us For Our Eye Opener Breakfast!<br />\nSponsored by:</strong>
LOCATION:Dutch Country 946 Baltimore Street Hanover\, PA 17331
UID:e.1500.4282
SEQUENCE:3
DTSTAMP:20260420T150533Z
URL:https://business.mainstreethanover.org/events/details/eye-opener-breakfast-10-17-2018-4282
END:VEVENT

END:VCALENDAR
