BEGIN:VCALENDAR
VERSION:2.0
PRODID:-//ChamberMaster//Event Calendar 2.0//EN
METHOD:PUBLISH
X-PUBLISHED-TTL:P3D
REFRESH-INTERVAL:P3D
CALSCALE:GREGORIAN
BEGIN:VEVENT
DTSTART:20161019T113000Z
DTEND:20161019T123000Z
X-MICROSOFT-CDO-ALLDAYEVENT:FALSE
SUMMARY:Eye Opener Breakfast 10/19/2016
DESCRIPTION:Come Join Us For Our Eye Opener Breakfast!\n\nSponsored by:\n\nStoudt Advisors
X-ALT-DESC;FMTTYPE=text/html:<p><strong>Come Join Us For Our Eye Opener Breakfast!<br />\nSponsored by:</strong></p>\n\n<p><strong>Stoudt Advisors</strong></p>\n
LOCATION:Bay City Restaurant 110 Eisenhower Drive Hanover\, PA 17331
UID:e.1500.1115
SEQUENCE:3
DTSTAMP:20260422T053342Z
URL:https://business.mainstreethanover.org/events/details/eye-opener-breakfast-10-19-2016-10-19-2016-1115
END:VEVENT

END:VCALENDAR
