BEGIN:VCALENDAR
VERSION:2.0
PRODID:-//ChamberMaster//Event Calendar 2.0//EN
METHOD:PUBLISH
X-PUBLISHED-TTL:P3D
REFRESH-INTERVAL:P3D
CALSCALE:GREGORIAN
BEGIN:VEVENT
DTSTART:20151021T113000Z
DTEND:20151021T123000Z
X-MICROSOFT-CDO-ALLDAYEVENT:FALSE
SUMMARY:Eye Opener Breakfast 10/21/2015
DESCRIPTION:Come Join Us For Our Eye Opener Breakfast!\n\nSponsored by Stoudt Advisors
X-ALT-DESC;FMTTYPE=text/html:<strong>Come Join Us For Our Eye Opener Breakfast!<br />\nSponsored by Stoudt Advisors</strong>
LOCATION:Bay City Seafood Restaurant 110 Eisenhower Dr\, Hanover\, PA 17331
UID:e.1500.910
SEQUENCE:3
DTSTAMP:20260422T215251Z
URL:https://business.mainstreethanover.org/events/details/eye-opener-breakfast-10-21-2015-10-21-2015-910
END:VEVENT

END:VCALENDAR
