BEGIN:VCALENDAR
VERSION:2.0
PRODID:-//ChamberMaster//Event Calendar 2.0//EN
METHOD:PUBLISH
X-PUBLISHED-TTL:P3D
REFRESH-INTERVAL:P3D
CALSCALE:GREGORIAN
BEGIN:VEVENT
DTSTART:20171115T123000Z
DTEND:20171115T133000Z
X-MICROSOFT-CDO-ALLDAYEVENT:FALSE
SUMMARY:Eye Opener Breakfast 11/15/2017
DESCRIPTION:Come Join Us For Our Eye Opener Breakfast!\n\nSponsored by HB McClure
X-ALT-DESC;FMTTYPE=text/html:<strong>Come Join Us For Our Eye Opener Breakfast!<br />\nSponsored by HB McClure</strong>
LOCATION:Bay City Restaurant 110 Eisenhower Drive Hanover\, PA 17331
UID:e.1500.2328
SEQUENCE:3
DTSTAMP:20260421T074317Z
URL:https://business.mainstreethanover.org/events/details/eye-opener-breakfast-11-15-2017-2328
END:VEVENT

END:VCALENDAR
