BEGIN:VCALENDAR
VERSION:2.0
PRODID:-//ChamberMaster//Event Calendar 2.0//EN
METHOD:PUBLISH
X-PUBLISHED-TTL:P3D
REFRESH-INTERVAL:P3D
CALSCALE:GREGORIAN
BEGIN:VEVENT
DTSTART:20161116T123000Z
DTEND:20161116T133000Z
X-MICROSOFT-CDO-ALLDAYEVENT:FALSE
SUMMARY:Eye Opener Breakfast 11/16/2016
DESCRIPTION:Join us for an Eye-Opener Breakfast\, sponsored by SpiriTrust Lutheran.
X-ALT-DESC;FMTTYPE=text/html:<strong>Join us for an Eye-Opener Breakfast\, sponsored by&nbsp\;SpiriTrust Lutheran.</strong>
LOCATION:SpiriTrust Lutheran - The Village at Utz Terrace 2100 Utz Terrace Hanover\, PA 17331
UID:e.1500.1133
SEQUENCE:3
DTSTAMP:20260422T023015Z
URL:https://business.mainstreethanover.org/events/details/eye-opener-breakfast-11-16-2016-11-16-2016-1133
END:VEVENT

END:VCALENDAR
