BEGIN:VCALENDAR
VERSION:2.0
PRODID:-//ChamberMaster//Event Calendar 2.0//EN
METHOD:PUBLISH
X-PUBLISHED-TTL:P3D
REFRESH-INTERVAL:P3D
CALSCALE:GREGORIAN
BEGIN:VEVENT
DTSTART:20151216T123000Z
DTEND:20151216T133000Z
X-MICROSOFT-CDO-ALLDAYEVENT:FALSE
SUMMARY:Eye Opener Breakfast 12/16/2015
DESCRIPTION:Come Join Us For Our Eye Opener Breakfast!\n\nSponsored by Visiting Angels
X-ALT-DESC;FMTTYPE=text/html:<strong>Come Join Us For Our Eye Opener Breakfast!<br />\nSponsored by Visiting Angels</strong>
LOCATION:Hanover Elks Lodge 763 47 N. Forney Avenue Hanover\, PA 17331
UID:e.1500.912
SEQUENCE:3
DTSTAMP:20260422T185030Z
URL:https://business.mainstreethanover.org/events/details/eye-opener-breakfast-12-16-2015-12-16-2015-912
END:VEVENT

END:VCALENDAR
