BEGIN:VCALENDAR
VERSION:2.0
PRODID:-//ChamberMaster//Event Calendar 2.0//EN
METHOD:PUBLISH
X-PUBLISHED-TTL:P3D
REFRESH-INTERVAL:P3D
CALSCALE:GREGORIAN
BEGIN:VEVENT
DTSTART:20181219T123000Z
DTEND:20181219T133000Z
X-MICROSOFT-CDO-ALLDAYEVENT:FALSE
SUMMARY:Eye Opener Breakfast 12/19/2018
DESCRIPTION:Come Join Us For Our Eye Opener Breakfast!\n\nSponsored by OSS Health!
X-ALT-DESC;FMTTYPE=text/html:<strong>Come Join Us For Our Eye Opener Breakfast!<br />\nSponsored by OSS Health!</strong>
LOCATION:Dutch Country Restaurant Hanover\, PA
UID:e.1500.4284
SEQUENCE:3
DTSTAMP:20260420T100211Z
URL:https://business.mainstreethanover.org/events/details/eye-opener-breakfast-12-19-2018-4284
END:VEVENT

END:VCALENDAR
