BEGIN:VCALENDAR
VERSION:2.0
PRODID:-//ChamberMaster//Event Calendar 2.0//EN
METHOD:PUBLISH
X-PUBLISHED-TTL:P3D
REFRESH-INTERVAL:P3D
CALSCALE:GREGORIAN
BEGIN:VEVENT
DTSTART:20171220T123000Z
DTEND:20171220T133000Z
X-MICROSOFT-CDO-ALLDAYEVENT:FALSE
SUMMARY:Eye Opener Breakfast 12/20/2017
DESCRIPTION:Come Join Us For Our Eye Opener Breakfast!\n\nSponsored by Quality DOT
X-ALT-DESC;FMTTYPE=text/html:<strong>Come Join Us For Our Eye Opener Breakfast!<br />\nSponsored by Quality DOT</strong>
LOCATION:Dutch Country Restaurant 946 Baltimore St. Hanover\, PA 17331
UID:e.1500.2329
SEQUENCE:3
DTSTAMP:20260421T060930Z
URL:https://business.mainstreethanover.org/events/details/eye-opener-breakfast-12-20-2017-2329
END:VEVENT

END:VCALENDAR
