BEGIN:VCALENDAR
VERSION:2.0
PRODID:-//ChamberMaster//Event Calendar 2.0//EN
METHOD:PUBLISH
X-PUBLISHED-TTL:P3D
REFRESH-INTERVAL:P3D
CALSCALE:GREGORIAN
BEGIN:VEVENT
DTSTART:20161221T123000Z
DTEND:20161221T133000Z
X-MICROSOFT-CDO-ALLDAYEVENT:FALSE
SUMMARY:Eye Opener Breakfast 12/21/2016
DESCRIPTION:Join Us For Our Eye Opener Breakfast!\n\nSponsored by Columbia Cottage
X-ALT-DESC;FMTTYPE=text/html:<strong>Join Us For Our Eye Opener Breakfast!<br />\nSponsored by Columbia Cottage</strong>
LOCATION:Dutch Country Restaurant 946 Baltimore St Hanover\, PA 17331
UID:e.1500.1163
SEQUENCE:3
DTSTAMP:20260422T021804Z
URL:https://business.mainstreethanover.org/events/details/eye-opener-breakfast-12-21-2016-12-21-2016-1163
END:VEVENT

END:VCALENDAR
