BEGIN:VCALENDAR
VERSION:2.0
PRODID:-//ChamberMaster//Event Calendar 2.0//EN
METHOD:PUBLISH
X-PUBLISHED-TTL:P3D
REFRESH-INTERVAL:P3D
CALSCALE:GREGORIAN
BEGIN:VEVENT
DTSTART:20180418T113000Z
DTEND:20180418T123000Z
X-MICROSOFT-CDO-ALLDAYEVENT:FALSE
SUMMARY:Eye Opener Breakfast 4/18/2018
DESCRIPTION:Come Join Us For Our Eye Opener Breakfast!\n\nSponsored by
X-ALT-DESC;FMTTYPE=text/html:<strong>Come Join Us For Our Eye Opener Breakfast!<br />\nSponsored by&nbsp\;</strong>
LOCATION:Dutch Country Restaurant 946 Baltimore St. Hanover\, PA 17331
UID:e.1500.3019
SEQUENCE:3
DTSTAMP:20260421T011829Z
URL:https://business.mainstreethanover.org/events/details/eye-opener-breakfast-4-18-2018-3019
END:VEVENT

END:VCALENDAR
