BEGIN:VCALENDAR
VERSION:2.0
PRODID:-//ChamberMaster//Event Calendar 2.0//EN
METHOD:PUBLISH
X-PUBLISHED-TTL:P3D
REFRESH-INTERVAL:P3D
CALSCALE:GREGORIAN
BEGIN:VEVENT
DTSTART:20180516T113000Z
DTEND:20180516T123000Z
X-MICROSOFT-CDO-ALLDAYEVENT:FALSE
SUMMARY:Eye Opener Breakfast 5/16/2018
DESCRIPTION:Come Join Us For Our Eye Opener Breakfast!\n\nSponsored by:\n\nMember's 1st Credit Union
X-ALT-DESC;FMTTYPE=text/html:<strong>Come Join Us For Our Eye Opener Breakfast!<br />\nSponsored by:<br />\nMember&#39\;s 1st Credit Union</strong>
LOCATION:Bay City Restaurant 110 Eisenhower Drive Hanover\, PA 17331
UID:e.1500.3020
SEQUENCE:3
DTSTAMP:20260420T215332Z
URL:https://business.mainstreethanover.org/events/details/eye-opener-breakfast-5-16-2018-3020
END:VEVENT

END:VCALENDAR
